Workbook

Sheet Total Possible Combinations
A4: 2.4GHz | B4: 3 channel plan | C4: ='2.4GHz RRM'!F9 -> 3192698880000
A5: 2.4GHz | B5: 11 channel plan | C5: ='2.4GHz RRM'!F12 -> 933636372480000
A6: 5Ghz | B6: 12 channel plan | C6: ='5GHz RRM'!F9 -> 1.8677288e+16
A7: 5Ghz | B7: 25 channel plan | C7: ='5GHz RRM'!F12 -> 1.5304171e+20
B12: Total 'sane' (3 & 12) | C12: =C4+C6 -> 1.8680481e+16 | G12: 4k TV: | H12: 8294400 | I12: pixels per frame
B13: Total 'absurd' (11 & 25) | C13: =C5+C7 -> 1.5304264e+20 | D13: one hundred fifty-three quintillion, | H13: =C13/H12 -> 1.8451321e+13 | I13: frames
D14: forty-two quadrillion, | H14: =H13/60 -> 3.0752202e+11 | I14: frames at 60FPS
D15: six hundred thirty-nine trillion, | H15: =H14/60 -> 5.125367e+09 | I15: Seconds of TV
D16: seven hundred forty billion, | H16: =H15/60 -> 85422784 | I16: Minutes of TV
D17: two hundred eighty-three million | H17: =H16/60 -> 1423713.1 | I17: Hours of TV
H18: =H17/24 -> 59321.378 | I18: Days of TV
H19: =H18/365 -> 162.52432 | I19: Years of TV

Sheet 5GHz RRM
A1: TPC version | B1: 2
A2: Power assignment method | B2: 7
A3: Max power level | B3: 40
A4: Min power level | B4: 40
A5: power threshold | B5: 30
A6: Channel assignment method | B6: 35
A7: Avoid Foreign AP interference | B7: 2
A8: Avoid Cisco AP load | B8: 2 | F8: Total possible configurations using 12 channels
A9: Avoid non-802.11a noise | B9: 2 | F9: =B1*B2*B3*B4*B5*B6*B7*B8*B9*B10*B11*B12*B13*B14*B15*B18 -> 1.8677288e+16
A10: Avoid Persistent Non-WiFi Interference | B10: 2
A11: DCA Channel Sensitivity | B11: 3 | F11: Total possible configurations using 25 channels
A12: Channel Width | B12: 5 | F12: =B1*B2*B3*B4*B5*B6*B7*B8*B9*B10*B11*B12*B13*B14*B15*B19 -> 1.5304171e+20
A13: Avoid check for non-DFS channel | B13: 2
A14: EDRRM | B14: 2
A15: EDRRM options | B15: 202
A18: 12 channels (default) | B18: =Channels!B13 -> 4095
A19: 25 channels | B19: =Channels!B26 -> 33554431

Sheet 2.4GHz RRM
A1: TPC version | B1: 2
A2: Power assignment method | B2: 7
A3: Max power level | B3: 40
A4: Min power level | B4: 40
A5: power threshold | B5: 30
A6: Channel assignment method | B6: 35
A7: Avoid Foreign AP interference | B7: 2
A8: Avoid Cisco AP load | B8: 2 | F8: Total possible configurations using 3 channels
A9: Avoid non-802.11b noise | B9: 2 | F9: =B1*B2*B3*B4*B5*B6*B7*B8*B9*B10*B11*B12*B13*B16 -> 3192698880000
A10: Avoid Persistent Non-WiFi Interference | B10: 2
A11: DCA Channel Sensitivity | B11: 3 | F11: Total possible configurations using 11 channels
A12: EDRRM | B12: 2 | F12: =B1*B2*B3*B4*B5*B6*B7*B8*B9*B10*B11*B12*B13*B17 -> 933636372480000
A13: EDRRM options | B13: 202
A16: 3 channels (default) | B16: =Channels!B4 -> 7
A17: 11 channels | B17: =Channels!B12 -> 2047

Sheet Channels
A1: Number of channels | B1: Possible config choices
A2: 1 | B2: =2^A2-1 -> 1
A3: 2 | B3: =2^A3-1 -> 3
A4: 3 | B4: =2^A4-1 -> 7 | C4: Default number of channels in 2.4GHz
A5: 4 | B5: =2^A5-1 -> 15
A6: 5 | B6: =2^A6-1 -> 31
A7: 6 | B7: =2^A7-1 -> 63
A8: 7 | B8: =2^A8-1 -> 127
A9: 8 | B9: =2^A9-1 -> 255
A10: 9 | B10: =2^A10-1 -> 511
A11: 10 | B11: =2^A11-1 -> 1023
A12: 11 | B12: =2^A12-1 -> 2047 | C12: Max number of channels in 2.4GHz
A13: 12 | B13: =2^A13-1 -> 4095 | C13: Default number of channels in 5GHz
A14: 13 | B14: =2^A14-1 -> 8191
A15: 14 | B15: =2^A15-1 -> 16383
A16: 15 | B16: =2^A16-1 -> 32767
A17: 16 | B17: =2^A17-1 -> 65535
A18: 17 | B18: =2^A18-1 -> 131071
A19: 18 | B19: =2^A19-1 -> 262143
A20: 19 | B20: =2^A20-1 -> 524287
A21: 20 | B21: =2^A21-1 -> 1048575
A22: 21 | B22: =2^A22-1 -> 2097151
A23: 22 | B23: =2^A23-1 -> 4194303
A24: 23 | B24: =2^A24-1 -> 8388607
A25: 24 | B25: =2^A25-1 -> 16777215
A26: 25 | B26: =2^A26-1 -> 33554431 | C26: Max number of channels in 5GHz
A27: 26 | B27: =2^A27-1 -> 67108863
A28: 27 | B28: =2^A28-1 -> 134217727
A29: 28 | B29: =2^A29-1 -> 268435455
A30: 29 | B30: =2^A30-1 -> 536870911
A31: 30 | B31: =2^A31-1 -> 1073741823
A32: 31 | B32: =2^A32-1 -> 2147483647
A33: 32 | B33: =2^A33-1 -> 4294967295
